{
 "currentVersion": 10.8,
 "serviceDescription": "March 24, 2026",
 "mapName": "Layers",
 "description": "",
 "copyrightText": "",
 "supportsDynamicLayers": true,
 "layers": [
  {
   "id": 138,
   "name": "Roads-Main Roads & Labels (64k-0k)",
   "parentLayerId": -1,
   "defaultVisibility": true,
   "subLayerIds": null,
   "minScale": 64000,
   "maxScale": 0,
   "type": "Feature Layer",
   "geometryType": "esriGeometryPolyline"
  },
  {
   "id": 137,
   "name": "Transport Lines (Local Labels Only)(32k-0k)",
   "parentLayerId": -1,
   "defaultVisibility": true,
   "subLayerIds": null,
   "minScale": 32000,
   "maxScale": 0,
   "type": "Feature Layer",
   "geometryType": "esriGeometryPolyline"
  },
  {
   "id": 136,
   "name": "Wastewater Treatment Plant",
   "parentLayerId": -1,
   "defaultVisibility": true,
   "subLayerIds": null,
   "minScale": 64000,
   "maxScale": 0,
   "type": "Feature Layer",
   "geometryType": "esriGeometryPoint"
  },
  {
   "id": 135,
   "name": "Village of Cumberland Boundary (label)",
   "parentLayerId": -1,
   "defaultVisibility": true,
   "subLayerIds": null,
   "minScale": 0,
   "maxScale": 32000,
   "type": "Feature Layer",
   "geometryType": "esriGeometryPolygon"
  },
  {
   "id": 134,
   "name": "Administrative Boundary",
   "parentLayerId": -1,
   "defaultVisibility": true,
   "subLayerIds": null,
   "minScale": 64000,
   "maxScale": 0,
   "type": "Feature Layer",
   "geometryType": "esriGeometryPolygon"
  },
  {
   "id": 133,
   "name": "Building With Folio",
   "parentLayerId": -1,
   "defaultVisibility": true,
   "subLayerIds": null,
   "minScale": 8000,
   "maxScale": 0,
   "type": "Feature Layer",
   "geometryType": "esriGeometryPoint"
  },
  {
   "id": 132,
   "name": "Cumberland Cadastral",
   "parentLayerId": -1,
   "defaultVisibility": true,
   "subLayerIds": null,
   "minScale": 49999,
   "maxScale": 0,
   "type": "Feature Layer",
   "geometryType": "esriGeometryPolygon"
  },
  {
   "id": 131,
   "name": "Hydrology (0K to32K)",
   "parentLayerId": -1,
   "defaultVisibility": true,
   "subLayerIds": [
    125,
    126,
    127,
    128,
    129,
    130
   ],
   "minScale": 31999,
   "maxScale": 0,
   "type": "Group Layer"
  },
  {
   "id": 125,
   "name": "FWA_Streams (labels only)",
   "parentLayerId": 131,
   "defaultVisibility": true,
   "subLayerIds": null,
   "minScale": 31999,
   "maxScale": 0,
   "type": "Feature Layer",
   "geometryType": "esriGeometryPolyline"
  },
  {
   "id": 126,
   "name": "HA_Ditches",
   "parentLayerId": 131,
   "defaultVisibility": true,
   "subLayerIds": null,
   "minScale": 31999,
   "maxScale": 0,
   "type": "Feature Layer",
   "geometryType": "esriGeometryPolyline"
  },
  {
   "id": 127,
   "name": "HA_Streams (queried)",
   "parentLayerId": 131,
   "defaultVisibility": true,
   "subLayerIds": null,
   "minScale": 31999,
   "maxScale": 0,
   "type": "Feature Layer",
   "geometryType": "esriGeometryPolyline"
  },
  {
   "id": 128,
   "name": "SEI_CVCSCP (wetlands only)",
   "parentLayerId": 131,
   "defaultVisibility": true,
   "subLayerIds": null,
   "minScale": 31999,
   "maxScale": 0,
   "type": "Feature Layer",
   "geometryType": "esriGeometryPolygon"
  },
  {
   "id": 129,
   "name": "SEI_CVPWS (wetlands only)",
   "parentLayerId": 131,
   "defaultVisibility": true,
   "subLayerIds": null,
   "minScale": 31999,
   "maxScale": 0,
   "type": "Feature Layer",
   "geometryType": "esriGeometryPolygon"
  },
  {
   "id": 130,
   "name": "HA_Waterbodies (with labels)",
   "parentLayerId": 131,
   "defaultVisibility": true,
   "subLayerIds": null,
   "minScale": 31999,
   "maxScale": 0,
   "type": "Feature Layer",
   "geometryType": "esriGeometryPolygon"
  },
  {
   "id": 124,
   "name": "Hydrology (32K to 64K)",
   "parentLayerId": -1,
   "defaultVisibility": true,
   "subLayerIds": [
    121,
    122,
    123
   ],
   "minScale": 63999,
   "maxScale": 32000,
   "type": "Group Layer"
  },
  {
   "id": 121,
   "name": "FWA_Waterbodies (queried and labels)",
   "parentLayerId": 124,
   "defaultVisibility": true,
   "subLayerIds": null,
   "minScale": 63999,
   "maxScale": 32000,
   "type": "Feature Layer",
   "geometryType": "esriGeometryPolygon"
  },
  {
   "id": 122,
   "name": "Cumberland Drinking Water Lakes",
   "parentLayerId": 124,
   "defaultVisibility": true,
   "subLayerIds": null,
   "minScale": 63999,
   "maxScale": 32000,
   "type": "Feature Layer",
   "geometryType": "esriGeometryPolygon"
  },
  {
   "id": 123,
   "name": "FWA_Streams (queried and labels)",
   "parentLayerId": 124,
   "defaultVisibility": true,
   "subLayerIds": null,
   "minScale": 63999,
   "maxScale": 32000,
   "type": "Feature Layer",
   "geometryType": "esriGeometryPolyline"
  },
  {
   "id": 120,
   "name": "Building Footprints",
   "parentLayerId": -1,
   "defaultVisibility": true,
   "subLayerIds": null,
   "minScale": 16000,
   "maxScale": 0,
   "type": "Feature Layer",
   "geometryType": "esriGeometryPolygon"
  },
  {
   "id": 119,
   "name": "Parcels_Reg (rural/Crtny)",
   "parentLayerId": -1,
   "defaultVisibility": true,
   "subLayerIds": null,
   "minScale": 49999,
   "maxScale": 0,
   "type": "Feature Layer",
   "geometryType": "esriGeometryPolygon"
  },
  {
   "id": 118,
   "name": "Provincial Park",
   "parentLayerId": -1,
   "defaultVisibility": true,
   "subLayerIds": null,
   "minScale": 100000,
   "maxScale": 0,
   "type": "Feature Layer",
   "geometryType": "esriGeometryPolygon"
  },
  {
   "id": 117,
   "name": "Administrative Boundary - outside mask",
   "parentLayerId": -1,
   "defaultVisibility": true,
   "subLayerIds": null,
   "minScale": 150001,
   "maxScale": 10,
   "type": "Feature Layer",
   "geometryType": "esriGeometryPolygon"
  },
  {
   "id": 116,
   "name": "Park",
   "parentLayerId": -1,
   "defaultVisibility": true,
   "subLayerIds": null,
   "minScale": 40000,
   "maxScale": 0,
   "type": "Feature Layer",
   "geometryType": "esriGeometryPolygon"
  },
  {
   "id": 115,
   "name": "Village of Cumberland",
   "parentLayerId": -1,
   "defaultVisibility": true,
   "subLayerIds": null,
   "minScale": 34999,
   "maxScale": 0,
   "type": "Feature Layer",
   "geometryType": "esriGeometryPolygon"
  },
  {
   "id": 114,
   "name": "Ocean",
   "parentLayerId": -1,
   "defaultVisibility": true,
   "subLayerIds": null,
   "minScale": 0,
   "maxScale": 16000,
   "type": "Feature Layer",
   "geometryType": "esriGeometryPolygon"
  }
 ],
 "tables": [],
 "spatialReference": {
  "wkid": 26910,
  "latestWkid": 26910
 },
 "singleFusedMapCache": true,
 "tileInfo": {
  "rows": 256,
  "cols": 256,
  "dpi": 96,
  "format": "PNG",
  "compressionQuality": 0,
  "origin": {
   "x": -5120900,
   "y": 9998100
  },
  "spatialReference": {
   "wkid": 26910,
   "latestWkid": 26910
  },
  "lods": [
   {
    "level": 0,
    "resolution": 16.933367200067735,
    "scale": 64000
   },
   {
    "level": 1,
    "resolution": 8.466683600033868,
    "scale": 32000
   },
   {
    "level": 2,
    "resolution": 4.233341800016934,
    "scale": 16000
   },
   {
    "level": 3,
    "resolution": 2.116670900008467,
    "scale": 8000
   },
   {
    "level": 4,
    "resolution": 1.0583354500042335,
    "scale": 4000
   },
   {
    "level": 5,
    "resolution": 0.5291677250021167,
    "scale": 2000
   },
   {
    "level": 6,
    "resolution": 0.26458386250105836,
    "scale": 1000
   }
  ]
 },
 "initialExtent": {
  "xmin": 344800.51637471386,
  "ymin": 5497554.572905507,
  "xmax": 359100.7401481011,
  "ymax": 5502903.155295946,
  "spatialReference": {
   "wkid": 26910,
   "latestWkid": 26910
  }
 },
 "fullExtent": {
  "xmin": 345973.01734785223,
  "ymin": 5494716.930590161,
  "xmax": 357928.2391749627,
  "ymax": 5502903.155295945,
  "spatialReference": {
   "wkid": 26910,
   "latestWkid": 26910
  }
 },
 "minScale": 64000,
 "maxScale": 1000,
 "minLOD": 0,
 "maxLOD": 6,
 "units": "esriMeters",
 "supportedImageFormatTypes": "PNG32,PNG24,PNG,JPG,DIB,TIFF,EMF,PS,PDF,GIF,SVG,SVGZ,BMP",
 "documentInfo": {
  "Title": "Cumberland Property Base Layer",
  "Author": "bontan",
  "Comments": "March 24, 2026",
  "Subject": "",
  "Category": "",
  "AntialiasingMode": "None",
  "TextAntialiasingMode": "Force",
  "Keywords": ""
 },
 "capabilities": "Map,Query,Data",
 "supportedQueryFormats": "JSON, geoJSON",
 "exportTilesAllowed": false,
 "referenceScale": 7000,
 "datumTransformations": [
  {
   "geoTransforms": [
    {
     "wkid": 108001,
     "latestWkid": 1241,
     "transformForward": true,
     "name": "NAD_1927_To_NAD_1983_NADCON"
    }
   ]
  },
  {
   "geoTransforms": [
    {
     "wkid": 108001,
     "latestWkid": 1241,
     "transformForward": false,
     "name": "NAD_1927_To_NAD_1983_NADCON"
    }
   ]
  }
 ],
 "supportsDatumTransformation": true,
 "maxRecordCount": 1000,
 "maxImageHeight": 4096,
 "maxImageWidth": 4096,
 "supportedExtensions": "KmlServer"
}
