{ "currentVersion": 10.8, "cimVersion": "2.5.0", "serviceDescription": "
Published: September 24, 2026<\/SPAN><\/P><\/DIV><\/DIV><\/DIV>",
"mapName": "VOC_PropertyBaseLayers",
"description": " Published: September 24, 2026<\/SPAN><\/P><\/DIV><\/DIV><\/DIV>",
"copyrightText": "",
"supportsDynamicLayers": true,
"layers": [
{
"id": 203,
"name": "Roads-Main Roads & Labels (64k-0k)",
"parentLayerId": -1,
"defaultVisibility": true,
"subLayerIds": null,
"minScale": 64000,
"maxScale": 0,
"type": "Feature Layer",
"geometryType": "esriGeometryPolyline",
"supportsDynamicLegends": true
},
{
"id": 202,
"name": "Transport Lines (Local Labels Only)(32k-0k)",
"parentLayerId": -1,
"defaultVisibility": true,
"subLayerIds": null,
"minScale": 32000,
"maxScale": 0,
"type": "Feature Layer",
"geometryType": "esriGeometryPolyline",
"supportsDynamicLegends": true
},
{
"id": 207,
"name": "Wastewater Treatment Plant",
"parentLayerId": -1,
"defaultVisibility": true,
"subLayerIds": null,
"minScale": 64000,
"maxScale": 0,
"type": "Feature Layer",
"geometryType": "esriGeometryPoint",
"supportsDynamicLegends": true
},
{
"id": 63,
"name": "Village of Cumberland Boundary (label)",
"parentLayerId": -1,
"defaultVisibility": true,
"subLayerIds": null,
"minScale": 0,
"maxScale": 32000,
"type": "Feature Layer",
"geometryType": "esriGeometryPolygon",
"supportsDynamicLegends": true
},
{
"id": 59,
"name": "Administrative Boundary",
"parentLayerId": -1,
"defaultVisibility": true,
"subLayerIds": null,
"minScale": 64000,
"maxScale": 0,
"type": "Feature Layer",
"geometryType": "esriGeometryPolygon",
"supportsDynamicLegends": true
},
{
"id": 77,
"name": "Building With Folio",
"parentLayerId": -1,
"defaultVisibility": true,
"subLayerIds": null,
"minScale": 8000,
"maxScale": 0,
"type": "Feature Layer",
"geometryType": "esriGeometryPoint",
"supportsDynamicLegends": true
},
{
"id": 79,
"name": "Cumberland Cadastral",
"parentLayerId": -1,
"defaultVisibility": true,
"subLayerIds": null,
"minScale": 49999,
"maxScale": 0,
"type": "Feature Layer",
"geometryType": "esriGeometryPolygon",
"supportsDynamicLegends": true
},
{
"id": 193,
"name": "Hydrology (0K to32K)",
"parentLayerId": -1,
"defaultVisibility": true,
"subLayerIds": [
186,
187,
188,
189,
190,
191
],
"minScale": 31999,
"maxScale": 0,
"type": "Group Layer",
"supportsDynamicLegends": false
},
{
"id": 186,
"name": "FWA_Streams (labels only)",
"parentLayerId": 193,
"defaultVisibility": true,
"subLayerIds": null,
"minScale": 31999,
"maxScale": 0,
"type": "Feature Layer",
"geometryType": "esriGeometryPolyline",
"supportsDynamicLegends": true
},
{
"id": 187,
"name": "HA_Ditches",
"parentLayerId": 193,
"defaultVisibility": true,
"subLayerIds": null,
"minScale": 31999,
"maxScale": 0,
"type": "Feature Layer",
"geometryType": "esriGeometryPolyline",
"supportsDynamicLegends": true
},
{
"id": 188,
"name": "HA_Streams (queried)",
"parentLayerId": 193,
"defaultVisibility": true,
"subLayerIds": null,
"minScale": 31999,
"maxScale": 0,
"type": "Feature Layer",
"geometryType": "esriGeometryPolyline",
"supportsDynamicLegends": true
},
{
"id": 189,
"name": "SEI_CVCSCP (wetlands only)",
"parentLayerId": 193,
"defaultVisibility": true,
"subLayerIds": null,
"minScale": 31999,
"maxScale": 0,
"type": "Feature Layer",
"geometryType": "esriGeometryPolygon",
"supportsDynamicLegends": true
},
{
"id": 190,
"name": "SEI_CVPWS (wetlands only)",
"parentLayerId": 193,
"defaultVisibility": true,
"subLayerIds": null,
"minScale": 31999,
"maxScale": 0,
"type": "Feature Layer",
"geometryType": "esriGeometryPolygon",
"supportsDynamicLegends": true
},
{
"id": 191,
"name": "HA_Waterbodies (with labels)",
"parentLayerId": 193,
"defaultVisibility": true,
"subLayerIds": null,
"minScale": 31999,
"maxScale": 0,
"type": "Feature Layer",
"geometryType": "esriGeometryPolygon",
"supportsDynamicLegends": true
},
{
"id": 185,
"name": "Hydrology (32K to 64K)",
"parentLayerId": -1,
"defaultVisibility": true,
"subLayerIds": [
181,
182,
183
],
"minScale": 63999,
"maxScale": 32000,
"type": "Group Layer",
"supportsDynamicLegends": false
},
{
"id": 181,
"name": "FWA_Waterbodies (queried and labels)",
"parentLayerId": 185,
"defaultVisibility": true,
"subLayerIds": null,
"minScale": 63999,
"maxScale": 32000,
"type": "Feature Layer",
"geometryType": "esriGeometryPolygon",
"supportsDynamicLegends": true
},
{
"id": 182,
"name": "Cumberland Drinking Water Lakes",
"parentLayerId": 185,
"defaultVisibility": true,
"subLayerIds": null,
"minScale": 63999,
"maxScale": 32000,
"type": "Feature Layer",
"geometryType": "esriGeometryPolygon",
"supportsDynamicLegends": true
},
{
"id": 183,
"name": "FWA_Streams (queried and labels)",
"parentLayerId": 185,
"defaultVisibility": true,
"subLayerIds": null,
"minScale": 63999,
"maxScale": 32000,
"type": "Feature Layer",
"geometryType": "esriGeometryPolyline",
"supportsDynamicLegends": true
},
{
"id": 205,
"name": "Building Footprints",
"parentLayerId": -1,
"defaultVisibility": true,
"subLayerIds": null,
"minScale": 16000,
"maxScale": 0,
"type": "Feature Layer",
"geometryType": "esriGeometryPolygon",
"supportsDynamicLegends": true
},
{
"id": 71,
"name": "Parcels_Reg (rural/Crtny)",
"parentLayerId": -1,
"defaultVisibility": true,
"subLayerIds": null,
"minScale": 49999,
"maxScale": 0,
"type": "Feature Layer",
"geometryType": "esriGeometryPolygon",
"supportsDynamicLegends": true
},
{
"id": 72,
"name": "Provincial Park",
"parentLayerId": -1,
"defaultVisibility": true,
"subLayerIds": null,
"minScale": 100000,
"maxScale": 0,
"type": "Feature Layer",
"geometryType": "esriGeometryPolygon",
"supportsDynamicLegends": true
},
{
"id": 75,
"name": "Administrative Boundary - outside mask",
"parentLayerId": -1,
"defaultVisibility": true,
"subLayerIds": null,
"minScale": 150001,
"maxScale": 10,
"type": "Feature Layer",
"geometryType": "esriGeometryPolygon",
"supportsDynamicLegends": true
},
{
"id": 73,
"name": "Park",
"parentLayerId": -1,
"defaultVisibility": true,
"subLayerIds": null,
"minScale": 40000,
"maxScale": 0,
"type": "Feature Layer",
"geometryType": "esriGeometryPolygon",
"supportsDynamicLegends": true
},
{
"id": 74,
"name": "Village of Cumberland",
"parentLayerId": -1,
"defaultVisibility": true,
"subLayerIds": null,
"minScale": 34999,
"maxScale": 0,
"type": "Feature Layer",
"geometryType": "esriGeometryPolygon",
"supportsDynamicLegends": true
}
],
"tables": [],
"spatialReference": {
"wkid": 26910,
"latestWkid": 26910,
"xyTolerance": 0.001,
"zTolerance": 0.001,
"mTolerance": 0.001,
"falseX": -5120900,
"falseY": -9998100,
"xyUnits": 10000,
"falseZ": -100000,
"zUnits": 10000,
"falseM": -100000,
"mUnits": 10000
},
"singleFusedMapCache": true,
"tileInfo": {
"rows": 256,
"cols": 256,
"dpi": 96,
"format": "PNG",
"compressionQuality": 0,
"origin": {
"x": -5120900,
"y": 9998100
},
"spatialReference": {
"wkid": 26910,
"latestWkid": 26910,
"xyTolerance": 6.666666666666689E-4,
"zTolerance": 2,
"mTolerance": 2,
"falseX": -5120900,
"falseY": -9998100,
"xyUnits": 4.504455473910538E8,
"falseZ": 0,
"zUnits": 1,
"falseM": -100000,
"mUnits": 10000
},
"lods": [
{
"level": 0,
"resolution": 16.933367200067735,
"scale": 64000
},
{
"level": 1,
"resolution": 8.466683600033868,
"scale": 32000
},
{
"level": 2,
"resolution": 4.233341800016934,
"scale": 16000
},
{
"level": 3,
"resolution": 2.116670900008467,
"scale": 8000
},
{
"level": 4,
"resolution": 1.0583354500042335,
"scale": 4000
},
{
"level": 5,
"resolution": 0.5291677250021167,
"scale": 2000
},
{
"level": 6,
"resolution": 0.26458386250105836,
"scale": 1000
}
]
},
"initialExtent": {
"xmin": 348640.50837241474,
"ymin": 5494580.400741269,
"xmax": 355629.75552758493,
"ymax": 5502969.428058731,
"spatialReference": {
"wkid": 26910,
"latestWkid": 26910,
"xyTolerance": 0.001,
"zTolerance": 0.001,
"mTolerance": 0.001,
"falseX": -5120900,
"falseY": -9998100,
"xyUnits": 10000,
"falseZ": -100000,
"zUnits": 10000,
"falseM": -100000,
"mUnits": 10000
}
},
"fullExtent": {
"xmin": 346922.1575524972,
"ymin": 5494580.400741269,
"xmax": 357348.10634750244,
"ymax": 5502969.428058731,
"spatialReference": {
"wkid": 26910,
"latestWkid": 26910,
"xyTolerance": 0.001,
"zTolerance": 0.001,
"mTolerance": 0.001,
"falseX": -5120900,
"falseY": -9998100,
"xyUnits": 10000,
"falseZ": -100000,
"zUnits": 10000,
"falseM": -100000,
"mUnits": 10000
}
},
"minScale": 64000,
"maxScale": 1000,
"minLOD": 0,
"maxLOD": 6,
"units": "esriMeters",
"supportedImageFormatTypes": "PNG32,PNG24,PNG,JPG,DIB,TIFF,EMF,PS,PDF,GIF,SVG,SVGZ,BMP",
"documentInfo": {
"Title": "VOC Property Base Layers",
"Author": "",
"Comments": " Published: September 24, 2026<\/SPAN><\/P><\/DIV><\/DIV><\/DIV>",
"Subject": "",
"Category": "",
"AntialiasingMode": "Best",
"TextAntialiasingMode": "Force",
"Keywords": "iMap,Cumberland"
},
"capabilities": "Map,Query,Data",
"supportedQueryFormats": "JSON, geoJSON, PBF",
"exportTilesAllowed": false,
"referenceScale": 7000.0,
"datumTransformations": [
{
"geoTransforms": [
{
"wkid": 108001,
"latestWkid": 1241,
"transformForward": true,
"name": "NAD_1927_To_NAD_1983_NADCON"
}
]
},
{
"geoTransforms": [
{
"wkid": 108001,
"latestWkid": 1241,
"transformForward": false,
"name": "NAD_1927_To_NAD_1983_NADCON"
}
]
}
],
"supportsDatumTransformation": true,
"archivingInfo": {"supportsHistoricMoment": false},
"supportsClipping": true,
"supportsSpatialFilter": true,
"supportsQueryDataElements": true,
"maxRecordCount": 2000,
"maxImageHeight": 4096,
"maxImageWidth": 4096,
"supportedExtensions": "KmlServer"
}